Workbook
Name LastCol: COUNTA(Expenses!#REF!)+1
Name LastCol: COUNTA([1]Expenses!#REF!)+1
Name PrintArea_SET: OFFSET(Expenses!#REF!,,,MATCH(REPT("z",255),Expenses!$A:$A),Expenses!LastCol)
Name PrintArea_SET: OFFSET([1]Expenses!#REF!,,,MATCH(REPT("z",255),[1]Expenses!$A:$A),LastCol)

Sheet Cash Flow Statement
S2: Year 2 (%) | T2: Year 3 (%)
C3: STATEMENT OF CASH FLOWS | R3: Anticipated Revenue Change | S3: 0.15 | T3: 0.25
C4: Business Name: | R4: Anticipated Expense Change | S4: 0.1 | T4: 0.07
C5: Start Date:
C6: End Date:
R7: Profit and Loss Statement
A8: Category | C8: Pre Start-Up Estimate | D8: Month 1 | E8: Month 2 | F8: Month 3 | G8: Month 4 | H8: Month 5 | I8: Month 6 | J8: Month 7 | K8: Month 8 | L8: Month 9 | M8: Month 10 | N8: Month 11 | O8: Month 12 | P8: Year End Estimate | S8: Year 1 | T8: Year 2 (Projected) | U8: Year 3 (Projected)
A9: Cash on Hand | D9: =C61 -> 0 | E9: =D61 -> 0 | F9: =E61 -> 0 | G9: =F61 -> 0 | H9: =G61 -> 0 | I9: =H61 -> 0 | J9: =I61 -> 0 | K9: =J61 -> 0 | ... P9: =O61 -> 0 | R9: Operating Income
A10: Revenue | R10: Sales | S10: =P16 -> 0 | T10: =S10+(S10*$S$3) -> 0 | U10: =T10+(T10*T3) -> 0
A11: Cash Sales | P11: =SUM(D11:O11) -> 0 | R11: Cost of Goods Sold | S11: =P25 -> 0 | T11: =S11+(S11*$S$4) -> 0 | U11: =T11+(T11*$T$4) -> 0
A12: Collections from Credit Accounts | P12: =SUM(D12:O12) -> 0 | R12: Gross Profit | S12: =S10-S11 -> 0 | T12: =T10-T11 -> 0 | U12: =U10-U11 -> 0
A13: Additional Source of Cash | P13: =SUM(D13:O13) -> 0 | R13: Operating Expenses
A14: Additional Source of Cash | P14: =SUM(D14:O14) -> 0 | R14: Salary (Office & Overhead) | S14: =P28 -> 0 | T14: =S14+(S14*$S$4) -> 0 | U14: =T14+(T14*$T$4) -> 0
A15: Additional Source of Cash | P15: =SUM(D15:O15) -> 0 | R15: Payroll (taxes, etc.) | S15: =P27 -> 0 | T15: =S15+(S15*$S$4) -> 0 | U15: =T15+(T15*$T$4) -> 0
A16: Total Cash Receipts | C16: =SUM(C11:C15) -> 0 | D16: =SUM(D10:D15) -> 0 | E16: =SUM(E10:E15) -> 0 | F16: =SUM(F10:F15) -> 0 | G16: =SUM(G10:G15) -> 0 | H16: =SUM(H10:H15) -> 0 | I16: =SUM(I10:I15) -> 0 | J16: =SUM(J10:J15) -> 0 | K16: =SUM(K10:K15) -> 0 | ... O16: =SUM(O10:O15) -> 0 | P16: =SUM(D16:O16) -> 0 | R16: Outside Services | S16: =P29 -> 0 | T16: =S16+(S16*$S$4) -> 0 | U16: =T16+(T16*$T$4) -> 0
A17: Cash from Loans or Other Outside Sources | P17: =SUM(D17:O17) -> 0 | R17: Supplies | S17: =P30 -> 0 | T17: =S17+(S17*$S$4) -> 0 | U17: =T17+(T17*$T$4) -> 0
A18: Owner Cash Injections | P18: =SUM(D18:O18) -> 0 | R18: Repairs & Maintenance | S18: =P31 -> 0 | T18: =S18+(S18*$S$4) -> 0 | U18: =T18+(T18*$T$4) -> 0
A19: Additional Source of Cash | P19: =SUM(D19:O19) -> 0 | R19: Advertising | S19: =P32 -> 0 | T19: =S19+(S19*$S$4) -> 0 | U19: =T19+(T19*$T$4) -> 0
A20: Total Cash Available | C20: =SUM(C16:C19)+C9 -> 0 | D20: =SUM(D16:D19)+D9 -> 0 | E20: =SUM(E16:E19)+E9 -> 0 | F20: =SUM(F16:F19)+F9 -> 0 | G20: =SUM(G16:G19)+G9 -> 0 | H20: =SUM(H16:H19)+H9 -> 0 | I20: =SUM(I16:I19)+I9 -> 0 | J20: =SUM(J16:J19)+J9 -> 0 | ... O20: =SUM(O16:O19)+O9 -> 0 | P20: =O20 -> 0 | R20: Car, Delivery, Travel | S20: =P33 -> 0 | T20: =S20+(S20*$S$4) -> 0 | U20: =T20+(T20*$T$4) -> 0
A21: Cost of Goods Sold | R21: Accounting Expenses | S21: =P34 -> 0 | T21: =S21+(S21*$S$4) -> 0 | U21: =T21+(T21*$T$4) -> 0
A22: - Inventory Cost | P22: =SUM(D22:O22) -> 0 | R22: Legal Expenses | S22: =P35 -> 0 | T22: =S22+(S22*$S$4) -> 0 | U22: =T22+(T22*$T$4) -> 0
A23: - Material Cost | P23: =SUM(D23:O23) -> 0 | R23: Rent | S23: =P36 -> 0 | T23: =S23+(S23*$S$4) -> 0 | U23: =T23+(T23*$T$4) -> 0
A24: - Additional COGS Expense | P24: =SUM(D24:O24) -> 0 | R24: Telephone | S24: =P37 -> 0 | T24: =S24+(S24*$S$4) -> 0 | U24: =T24+(T24*$T$4) -> 0
A25: Total Cost of Goods Sold | C25: =SUM(C22:C24) -> 0 | D25: =SUM(D22:D24) -> 0 | E25: =SUM(E22:E24) -> 0 | F25: =SUM(F22:F24) -> 0 | G25: =SUM(G22:G24) -> 0 | H25: =SUM(H22:H24) -> 0 | I25: =SUM(I22:I24) -> 0 | J25: =SUM(J22:J24) -> 0 | ... O25: =SUM(O22:O24) -> 0 | P25: =SUM(D25:O25) -> 0 | R25: Utilities | S25: =P38 -> 0 | T25: =S25+(S25*$S$4) -> 0 | U25: =T25+(T25*$T$4) -> 0
A26: Operating Expenses | R26: Insurance | S26: =P39 -> 0 | T26: =S26+(S26*$S$4) -> 0 | U26: =T26+(T26*$T$4) -> 0
A27: Gross Wages | P27: =SUM(D27:O27) -> 0 | R27: Taxes (real estate, etc) | S27: =P40 -> 0 | T27: =S27+(S27*$S$4) -> 0 | U27: =T27+(T27*$T$4) -> 0
A28: Salary (Ownership) | P28: =SUM(D28:O28) -> 0 | R28: Interest | S28: =$P$42 -> 0 | T28: =S28+(S28*$S$4) -> 0 | U28: =T28+(T28*$T$4) -> 0
A29: Outside Services | P29: =SUM(D29:O29) -> 0 | R29: Depreciation | S29: =P44 -> 0 | T29: =S29+(S29*$S$4) -> 0 | U29: =T29+(T29*$T$4) -> 0
A30: Supplies | P30: =SUM(D30:O30) -> 0 | R30: Additional Expenses: | S30: =SUM(P44:P46) -> 0 | T30: =S30+(S30*$S$4) -> 0 | U30: =T30+(T30*$T$4) -> 0
A31: Repairs & Maintenance | P31: =SUM(D31:O31) -> 0 | R31: Total Operating Expenses | S31: =SUM(S14:S30) -> 0 | T31: =SUM(T14:T30) -> 0 | U31: =SUM(U14:U30) -> 0
A32: Advertising | P32: =SUM(D32:O32) -> 0 | R32: One-Time Capital Expenditure | S32: =P52 -> 0 | T32: 0 | U32: 0
A33: Car, Delivery, Travel | P33: =SUM(D33:O33) -> 0 | R33: Net Profit/Loss Before Taxes | S33: =S12-S31-S32 -> 0 | T33: =T12-T31 -> 0 | U33: =U12-U31 -> 0
A34: Accounting Services | P34: =SUM(D34:O34) -> 0 | R34: Income Taxes | S34: =P41 -> 0 | T34: =S34+(S34*$S$4) -> 0 | U34: =T34+(T34*$T$4) -> 0
A35: Legal Services | P35: =SUM(D35:O35) -> 0 | R35: Net Profit/Loss After Taxes | S35: =S33-S34 -> 0 | T35: =T33-T34 -> 0 | U35: =U33-U34 -> 0
A36: Rent | P36: =SUM(D36:O36) -> 0 | R36: Owner Draw or Dividents | S36: =P58 -> 0 | T36: =S36+(S36*$S$4) -> 0 | U36: =T36+(T36*$T$4) -> 0
A37: Telephone | P37: =SUM(D37:O37) -> 0 | R37: Retained Earnings | S37: =S35-S36 -> 0 | T37: =T35-T36 -> 0 | U37: =U35-U36 -> 0
A38: Utilities | P38: =SUM(D38:O38) -> 0
A39: Insurance | P39: =SUM(D39:O39) -> 0
A40: Taxes (real estate, etc.) | P40: =SUM(D40:O40) -> 0
A41: Income Taxes Paid | P41: =SUM(D41:O41) -> 0
...

Sheet Income Statement
C3: INCOME STATEMENT (PROFIT & LOSS STATEMENT)
C4: Business Name: | D4: ='Cash Flow Statement'!$D$4 -> 0
C5: Time Periods:
A7: Category | C7: Year to Date | E7: End of Year 1 | G7: End of Year 2 (Projected) | I7: End of Year 3 (Projected)
A9: Operating Income
A10: Sales | E10: ='Cash Flow Statement'!S10 -> 0 | G10: ='Cash Flow Statement'!T10 -> 0 | I10: ='Cash Flow Statement'!U10 -> 0
A11: Cost of Goods Sold | E11: ='Cash Flow Statement'!S11 -> 0 | G11: ='Cash Flow Statement'!T11 -> 0 | I11: ='Cash Flow Statement'!U11 -> 0
A12: GROSS PROFIT | C12: =C10-C11 -> 0 | E12: =E10-E11 -> 0 | G12: =G10-G11 -> 0 | I12: =I10-I11 -> 0
A13: Operating Expenses
A14: Salary (Office & Overhead) | E14: ='Cash Flow Statement'!S14 -> 0 | G14: ='Cash Flow Statement'!T14 -> 0 | I14: ='Cash Flow Statement'!U14 -> 0
A15: Payroll (taxes, etc.) | E15: ='Cash Flow Statement'!S15 -> 0 | G15: ='Cash Flow Statement'!T15 -> 0 | I15: ='Cash Flow Statement'!U15 -> 0
A16: Outside Services | E16: ='Cash Flow Statement'!S16 -> 0 | G16: ='Cash Flow Statement'!T16 -> 0 | I16: ='Cash Flow Statement'!U16 -> 0
A17: Supplies | E17: ='Cash Flow Statement'!S17 -> 0 | G17: ='Cash Flow Statement'!T17 -> 0 | I17: ='Cash Flow Statement'!U17 -> 0
A18: Repairs & Maintenance | E18: ='Cash Flow Statement'!S18 -> 0 | G18: ='Cash Flow Statement'!T18 -> 0 | I18: ='Cash Flow Statement'!U18 -> 0
A19: Advertising | E19: ='Cash Flow Statement'!S19 -> 0 | G19: ='Cash Flow Statement'!T19 -> 0 | I19: ='Cash Flow Statement'!U19 -> 0
A20: Car, Delivery, Travel | E20: ='Cash Flow Statement'!S20 -> 0 | G20: ='Cash Flow Statement'!T20 -> 0 | I20: ='Cash Flow Statement'!U20 -> 0
A21: Accounting Expenses | E21: ='Cash Flow Statement'!S21 -> 0 | G21: ='Cash Flow Statement'!T21 -> 0 | I21: ='Cash Flow Statement'!U21 -> 0
A22: Legal Expenses | E22: ='Cash Flow Statement'!S22 -> 0 | G22: ='Cash Flow Statement'!T22 -> 0 | I22: ='Cash Flow Statement'!U22 -> 0
A23: Rent | E23: ='Cash Flow Statement'!S23 -> 0 | G23: ='Cash Flow Statement'!T23 -> 0 | I23: ='Cash Flow Statement'!U23 -> 0
A24: Telephone | E24: ='Cash Flow Statement'!S24 -> 0 | G24: ='Cash Flow Statement'!T24 -> 0 | I24: ='Cash Flow Statement'!U24 -> 0
A25: Utilities | E25: ='Cash Flow Statement'!S25 -> 0 | G25: ='Cash Flow Statement'!T25 -> 0 | I25: ='Cash Flow Statement'!U25 -> 0
... A30: Other Expenses: | E30: ='Cash Flow Statement'!S30 -> 0 | G30: ='Cash Flow Statement'!T30 -> 0 | I30: ='Cash Flow Statement'!U30 -> 0
A31: Miscellaneous | E31: ='Cash Flow Statement'!#REF! -> #REF! | G31: ='Cash Flow Statement'!#REF! -> #REF! | I31: ='Cash Flow Statement'!#REF! -> #REF!
A32: ='Cash Flow Statement'!#REF! -> #REF! | E32: ='Cash Flow Statement'!#REF! -> #REF! | G32: ='Cash Flow Statement'!#REF! -> #REF! | I32: ='Cash Flow Statement'!#REF! -> #REF!
A33: ='Cash Flow Statement'!#REF! -> #REF! | E33: ='Cash Flow Statement'!#REF! -> #REF! | G33: ='Cash Flow Statement'!#REF! -> #REF! | I33: ='Cash Flow Statement'!#REF! -> #REF!
A34: TOTAL OPERATING EXPENSES | C34: =SUM(C14:C33) -> 0 | E34: =SUM(E14:E33) -> #REF! | G34: =SUM(G14:G33) -> #REF! | I34: =SUM(I14:I33) -> #REF!
A35: NET PROFIT/LOSS BEFORE TAXES | C35: =C12-C34 -> 0 | E35: =E12-E34 -> #REF! | G35: =G12-G34 -> #REF! | I35: =I12-I34 -> #REF!
A36: Income Taxes | E36: ='Cash Flow Statement'!S34 -> 0 | F36: ='Cash Flow Statement'!T34 -> 0 | G36: ='Cash Flow Statement'!U34 -> 0 | H36: ='Cash Flow Statement'!V39 -> 0 | I36: ='Cash Flow Statement'!W39 -> 0
A37: NET PROFIT/LOSS AFTER TAX | C37: =C35-C36 -> 0 | E37: =E35-E36 -> #REF! | G37: =G35-G36 -> #REF! | I37: =I35-I36 -> #REF!
A38: Owner draw or dividends | E38: ='Cash Flow Statement'!S36 -> 0 | F38: ='Cash Flow Statement'!T36 -> 0 | G38: ='Cash Flow Statement'!U36 -> 0 | H38: ='Cash Flow Statement'!V41 -> 0 | I38: ='Cash Flow Statement'!W41 -> 0
A39: RETAINED EARNINGS | C39: =C37-C38 -> 0 | E39: =E37-E38 -> #REF! | G39: =G37-G38 -> #REF! | I39: =I37-I38 -> #REF!

Sheet Expenses
A1: Itemized Business Expenses Template | B1: Business Name:
A2: Expenses | B2: Gross Wages | C2: Purchases | D2: Outside Services | E2: Supplies | F2: Repairs & Maintenance | G2: Advertising | H2: Car, Delivery, Travel | I2: Accounting Expenses | J2: Legal Expenses | K2: Rent | L2: Telephone | M2: Utilities | N2: Insurance | O2: Taxes (Real Estate, etc) | P2: Interest | Q2: Depreciation | R2: Other (1) | S2: Other (2) | T2: Other (3)
A48: Totals | B48: =SUM(B3:B47) -> 0 | C48: =SUM(C3:C47) -> 0 | D48: =SUM(D3:D47) -> 0 | E48: =SUM(E3:E47) -> 0 | F48: =SUM(F3:F47) -> 0 | G48: =SUM(G3:G47) -> 0 | H48: =SUM(H3:H47) -> 0 | I48: =SUM(I3:I47) -> 0 | ... T48: =SUM(T3:T47) -> 0
R50: Total Expenses: | T50: =SUM(B48:K48) -> 0

Sheet Sheet2

Sheet Sheet3
